BEGIN:VCALENDAR
VERSION:2.0
PRODID:-//Pixley &amp; District Parish Council//Meeting Calendar//EN
CALSCALE:GREGORIAN
METHOD:PUBLISH
BEGIN:VEVENT
UID:71433-20260511@pixley-pc.gov.uk
DTSTAMP:20260422T141954Z
DTSTART;VALUE=DATE:20260511
DTEND;VALUE=DATE:20260512
SUMMARY:Annual Parish Meeting 11th May 7pm Munsley WI Hall
DESCRIPTION:Annual Meeting\nView details: https://pixley-pc.gov.uk/meetings/annual-parish-meeting-11th-may-7pm/
URL:https://pixley-pc.gov.uk/meetings/annual-parish-meeting-11th-may-7pm/
END:VEVENT
END:VCALENDAR
