BEGIN:VCALENDAR
VERSION:2.0
PRODID:-//Pixley &amp; District Parish Council//Meeting Calendar//EN
CALSCALE:GREGORIAN
METHOD:PUBLISH
BEGIN:VEVENT
UID:71431-20260511@pixley-pc.gov.uk
DTSTAMP:20260422T141657Z
DTSTART;VALUE=DATE:20260511
DTEND;VALUE=DATE:20260512
SUMMARY:Annual Council Meeting 11th May 2026 7:30pm Munsley WI Hall
DESCRIPTION:Full Council Meeting\nView details: https://pixley-pc.gov.uk/meetings/council-meeting-11th-may-2026/
URL:https://pixley-pc.gov.uk/meetings/council-meeting-11th-may-2026/
END:VEVENT
END:VCALENDAR
