BEGIN:VCALENDAR
VERSION:2.0
PRODID:-//Pixley &amp; District Parish Council//Meeting Calendar//EN
CALSCALE:GREGORIAN
METHOD:PUBLISH
BEGIN:VEVENT
UID:71257-20260112@pixley-pc.gov.uk
DTSTAMP:20260419T130438Z
DTSTART;VALUE=DATE:20260112
DTEND;VALUE=DATE:20260113
SUMMARY:Council Meeting 12th January 2026 19:30pm Munsley WI Hall
DESCRIPTION:Full Council Meeting\nView details: https://pixley-pc.gov.uk/meetings/council-meeting-12th-january-2026-1930pm-munsley-wi-hall/
URL:https://pixley-pc.gov.uk/meetings/council-meeting-12th-january-2026-1930pm-munsley-wi-hall/
END:VEVENT
END:VCALENDAR
